BEGIN:VCALENDAR
VERSION:2.0
PRODID:-//Urbanonetwork//NONSGML v1.0//EN
METHOD:PUBLISH
BEGIN:VEVENT
UID:urbanonetwork-event-1622
DTSTAMP:20190725T153000Z
ORGANIZER;CN=Katherine Davies:MAILTO:kdavies@traveleads.net
STATUS:CONFIRMED
DTSTART:20190725T153000Z
DTEND:20190725T173000Z
LAST-MODIFIED:20190626T142931Z
LOCATION:Balls Brothers Adam&#039;s Court, 6 Adam&#039;s Court, London, EC2N 1DX
SUMMARY:Traveleads Drinks Reception
URL:https://www.urbanonetwork.co.uk/london-networking-events/1622/2019/07/25/traveleads-drinks-reception
DESCRIPTION: Traveleads would like to invite you to join us at our next informal drinks reception.&amp;nbsp;
END:VEVENT
END:VCALENDAR