BEGIN:VCALENDAR
VERSION:2.0
PRODID:-//Urbanonetwork//NONSGML v1.0//EN
METHOD:PUBLISH
BEGIN:VEVENT
UID:urbanonetwork-event-1689
DTSTAMP:20200130T180000Z
ORGANIZER;CN=Ben Faulkner:MAILTO:ben.faulkner@eqinvestors.co.uk
STATUS:CONFIRMED
DTSTART:20200130T180000Z
DTEND:20200130T200000Z
LAST-MODIFIED:20200128T133512Z
LOCATION:EQ Investors, Centennium House, London, EC3R 6DL
SUMMARY:Protecting your family wealth
URL:https://www.urbanonetwork.co.uk/london-networking-events/1689/2020/01/30/protecting-your-family-wealth
DESCRIPTION:
END:VEVENT
END:VCALENDAR