BEGIN:VCALENDAR
VERSION:2.0
PRODID:-//Urbanonetwork//NONSGML v1.0//EN
METHOD:PUBLISH
BEGIN:VEVENT
UID:urbanonetwork-event-1691
DTSTAMP:20200226T083000Z
ORGANIZER;CN=Devika Sharma:MAILTO:devika.sharma@nuccobrain.com
STATUS:CONFIRMED
DTSTART:20200226T083000Z
DTEND:20200226T103000Z
LAST-MODIFIED:20200204T151506Z
LOCATION:Nucco Brain, 155 Farringdon Road, London, EC1R 3AF
SUMMARY:The Case for Creative: Getting Stakeholders on Board
URL:https://www.urbanonetwork.co.uk/london-networking-events/1691/2020/02/26/the-case-for-creative-getting-stakeholders-on-board
DESCRIPTION:How do you demonstrate the value of creativity? How do you prove the ROI of injecting creativity into a campaign? How do you bring your stakeholders along the creative journey and prove that it will surprise and delight your audience?
END:VEVENT
END:VCALENDAR