BEGIN:VCALENDAR
VERSION:2.0
PRODID:-//Urbanonetwork//NONSGML v1.0//EN
METHOD:PUBLISH
BEGIN:VEVENT
UID:urbanonetwork-event-172
DTSTAMP:20121024T173000Z
ORGANIZER;CN=Jack Haines:MAILTO:j.haines@westminsterbc.org.uk
STATUS:CONFIRMED
DTSTART:20121024T173000Z
DTEND:20121024T193000Z
LAST-MODIFIED:20161224T191404Z
LOCATION:Weiss Gallery, 59 Jermyn Street, London, SW1Y 6LX
SUMMARY:Perfume Networking, Networking with a Twist!
URL:https://www.urbanonetwork.co.uk/london-networking-events/172/2012/10/24/perfume-networking-networking-with-a-twist
DESCRIPTION:&amp;nbsp;
END:VEVENT
END:VCALENDAR