BEGIN:VCALENDAR
VERSION:2.0
PRODID:-//Urbanonetwork//NONSGML v1.0//EN
METHOD:PUBLISH
BEGIN:VEVENT
UID:urbanonetwork-event-1749
DTSTAMP:20200402T090000Z
ORGANIZER;CN=Jo Geraghty:MAILTO:jo.geraghty@cultureconsultancy.com
STATUS:CONFIRMED
DTSTART:20200402T090000Z
DTEND:20200402T110000Z
LAST-MODIFIED:20200330T110702Z
LOCATION:Urbano Networking Event, Pan-Sector Online, London, 0NL 1NE
SUMMARY:Free Webinar: Making Business Decisions During The Pandemic
URL:https://www.urbanonetwork.co.uk/london-networking-events/1749/2020/04/02/free-webinar-making-business-decisions-during-the-pandemic
DESCRIPTION:Wondering how you can equip your leaders with the skills to manage remotely?
END:VEVENT
END:VCALENDAR