BEGIN:VCALENDAR
VERSION:2.0
PRODID:-//Urbanonetwork//NONSGML v1.0//EN
METHOD:PUBLISH
BEGIN:VEVENT
UID:urbanonetwork-event-1756
DTSTAMP:20200415T110000Z
ORGANIZER;CN=Susan Kench:MAILTO:susan@linkedintutors.com
STATUS:CONFIRMED
DTSTART:20200415T110000Z
DTEND:20200415T130000Z
LAST-MODIFIED:20200408T140213Z
LOCATION:Marshall Walker, 73 Cornhill, London, EC3V 3QQ
SUMMARY:Bite Size LinkedIn Learning: FREE live Q&amp;A
URL:https://www.urbanonetwork.co.uk/london-networking-events/1756/2020/04/15/bite-size-linkedin-learning-free-live-q-a
DESCRIPTION:Have you got a question about how best to use LinkedIn to support your business during these challenging times?
END:VEVENT
END:VCALENDAR