BEGIN:VCALENDAR
VERSION:2.0
PRODID:-//Urbanonetwork//NONSGML v1.0//EN
METHOD:PUBLISH
BEGIN:VEVENT
UID:urbanonetwork-event-1757
DTSTAMP:20200415T150000Z
ORGANIZER;CN=Devika Sharma:MAILTO:devika.sharma@nuccobrain.com
STATUS:CONFIRMED
DTSTART:20200415T150000Z
DTEND:20200415T170000Z
LAST-MODIFIED:20200408T155745Z
LOCATION:Urbano Networking Event, Pan-Sector Online, London, 0NL 1NE
SUMMARY:Safety First! Using VR for Employee Training.
URL:https://www.urbanonetwork.co.uk/london-networking-events/1757/2020/04/15/safety-first-using-vr-for-employee-training
DESCRIPTION:VR. AR. XR. What does it all mean?
END:VEVENT
END:VCALENDAR