BEGIN:VCALENDAR
VERSION:2.0
PRODID:-//Urbanonetwork//NONSGML v1.0//EN
METHOD:PUBLISH
BEGIN:VEVENT
UID:urbanonetwork-event-1759
DTSTAMP:20200421T110000Z
ORGANIZER;CN=Ben Faulkner:MAILTO:ben.faulkner@eqinvestors.co.uk
STATUS:CONFIRMED
DTSTART:20200421T110000Z
DTEND:20200421T130000Z
LAST-MODIFIED:20200421T091956Z
LOCATION:Urbano Networking Event, Pan-Sector Online, London, 0NL 1NE
SUMMARY:Webinar: going green with your ISA
URL:https://www.urbanonetwork.co.uk/london-networking-events/1759/2020/04/21/webinar-going-green-with-your-isa
DESCRIPTION:
END:VEVENT
END:VCALENDAR