BEGIN:VCALENDAR
VERSION:2.0
PRODID:-//Urbanonetwork//NONSGML v1.0//EN
METHOD:PUBLISH
BEGIN:VEVENT
UID:urbanonetwork-event-1760
DTSTAMP:20200423T120000Z
ORGANIZER;CN=Ben Faulkner:MAILTO:ben.faulkner@eqinvestors.co.uk
STATUS:CONFIRMED
DTSTART:20200423T120000Z
DTEND:20200423T140000Z
LAST-MODIFIED:20200415T094733Z
LOCATION:Urbano Networking Event, Pan-Sector Online, London, 0NL 1NE
SUMMARY:Webinar: the importance of good investing for women in challenging times
URL:https://www.urbanonetwork.co.uk/london-networking-events/1760/2020/04/23/webinar-the-importance-of-good-investing-for-women-in-challenging-times
DESCRIPTION:The COVID 19 pandemic has brought with it many challenges but now more than ever it is important that people and in particular women take the opportunity to evaluate and reassess their finances.
END:VEVENT
END:VCALENDAR