BEGIN:VCALENDAR
VERSION:2.0
PRODID:-//Urbanonetwork//NONSGML v1.0//EN
METHOD:PUBLISH
BEGIN:VEVENT
UID:urbanonetwork-event-1771
DTSTAMP:20200429T150000Z
ORGANIZER;CN=Louise Norris:MAILTO:Louise.norris@spencer-west.com
STATUS:CONFIRMED
DTSTART:20200429T150000Z
DTEND:20200429T170000Z
LAST-MODIFIED:20200421T092245Z
LOCATION:Urbano Networking Event, Pan-Sector Online, London, 0NL 1NE
SUMMARY:After Covid 19 - as a contractor, are you prepared? FREE WEBINAR
URL:https://www.urbanonetwork.co.uk/london-networking-events/1771/2020/04/29/after-covid-19-as-a-contractor-are-you-prepared-free-webinar
DESCRIPTION:
END:VEVENT
END:VCALENDAR