BEGIN:VCALENDAR
VERSION:2.0
PRODID:-//Urbanonetwork//NONSGML v1.0//EN
METHOD:PUBLISH
BEGIN:VEVENT
UID:urbanonetwork-event-1772
DTSTAMP:20200424T100000Z
ORGANIZER;CN=Rob Boll:MAILTO:rob@evokemanagement.co.uk
STATUS:CONFIRMED
DTSTART:20200424T100000Z
DTEND:20200424T120000Z
LAST-MODIFIED:20200421T104537Z
LOCATION:Free Webinar, Virtual, London, EC2Y
SUMMARY:Free SME Webinar: How to be successful in your funding application
URL:https://www.urbanonetwork.co.uk/london-networking-events/1772/2020/04/24/free-sme-webinar-how-to-be-successful-in-your-funding-application
DESCRIPTION:As you are probably aware, there&amp;rsquo;s lots of information available, about lots of government backed and other funding that SME businesses are in such urgent need of.
END:VEVENT
END:VCALENDAR