BEGIN:VCALENDAR
VERSION:2.0
PRODID:-//Urbanonetwork//NONSGML v1.0//EN
METHOD:PUBLISH
BEGIN:VEVENT
UID:urbanonetwork-event-1775
DTSTAMP:20200507T090000Z
ORGANIZER;CN=Jo Geraghty:MAILTO:jo.geraghty@cultureconsultancy.com
STATUS:CONFIRMED
DTSTART:20200507T090000Z
DTEND:20200507T110000Z
LAST-MODIFIED:20200503T112657Z
LOCATION:Urbano Networking Event, Pan-Sector Online, London, 0NL 1NE
SUMMARY:Free Webinar:  How to use your employee communications to infuse positivity
URL:https://www.urbanonetwork.co.uk/london-networking-events/1775/2020/05/07/how-to-ensure-your-employee-communications-infuse-positivity-into-your-team
DESCRIPTION:Warning! The answer is not what you think!
END:VEVENT
END:VCALENDAR