BEGIN:VCALENDAR
VERSION:2.0
PRODID:-//Urbanonetwork//NONSGML v1.0//EN
METHOD:PUBLISH
BEGIN:VEVENT
UID:urbanonetwork-event-1797
DTSTAMP:20200522T100000Z
ORGANIZER;CN=Rob Boll:MAILTO:rob@evokemanagement.co.uk
STATUS:CONFIRMED
DTSTART:20200522T100000Z
DTEND:20200522T120000Z
LAST-MODIFIED:20200518T103219Z
LOCATION:Free Webinar, Virtual, London, EC2Y
SUMMARY:Free SME Webinar: Essential forecasting &amp; M.I. for fundraising and growth
URL:https://www.urbanonetwork.co.uk/london-networking-events/1797/2020/05/22/free-sme-webinar-essential-forecasting-m-i-for-fundraising-and-growth
DESCRIPTION:As part of our Back 2 Business Series of webinars, one of our Portfolio Finance Directors, Robert Green, will demonstrate:
END:VEVENT
END:VCALENDAR