BEGIN:VCALENDAR
VERSION:2.0
PRODID:-//Urbanonetwork//NONSGML v1.0//EN
METHOD:PUBLISH
BEGIN:VEVENT
UID:urbanonetwork-event-181
DTSTAMP:20121121T183000Z
ORGANIZER;CN=Jack Haines:MAILTO:j.haines@westminsterbc.org.uk
STATUS:CONFIRMED
DTSTART:20121121T183000Z
DTEND:20121121T203000Z
LAST-MODIFIED:20161224T191404Z
LOCATION:Old Marylebone Town Hall, Westminster Council House NW1 5PT, London, NW1 5PT
SUMMARY:Women of Westminster
URL:https://www.urbanonetwork.co.uk/london-networking-events/181/2012/11/21/women-of-westminster
DESCRIPTION:Westminster Business Council in partnership with the National Black Women&#039;s Network
END:VEVENT
END:VCALENDAR