BEGIN:VCALENDAR
VERSION:2.0
PRODID:-//Urbanonetwork//NONSGML v1.0//EN
METHOD:PUBLISH
BEGIN:VEVENT
UID:urbanonetwork-event-1814
DTSTAMP:20200702T100000Z
ORGANIZER;CN=Louise Norris:MAILTO:Louise.norris@spencer-west.com
STATUS:CONFIRMED
DTSTART:20200702T100000Z
DTEND:20200702T120000Z
LAST-MODIFIED:20200615T211311Z
LOCATION:Zoom, online, London, EC1A 9ET
SUMMARY:Back to the Future of Work - FREE Webinar - Spencer West LLP
URL:https://www.urbanonetwork.co.uk/london-networking-events/1814/2020/07/02/back-to-the-future-of-work-free-webinar-spencer-west-llp
DESCRIPTION:
END:VEVENT
END:VCALENDAR