BEGIN:VCALENDAR
VERSION:2.0
PRODID:-//Urbanonetwork//NONSGML v1.0//EN
METHOD:PUBLISH
BEGIN:VEVENT
UID:urbanonetwork-event-1818
DTSTAMP:20200624T100000Z
ORGANIZER;CN=Helen Wheddon:MAILTO:helen.wheddon@stevens-bolton.com
STATUS:CONFIRMED
DTSTART:20200624T100000Z
DTEND:20200624T120000Z
LAST-MODIFIED:20200617T200159Z
LOCATION:Zoom, online, London, EC1A 9ET
SUMMARY:Webinar: Midsummer nightmare?
URL:https://www.urbanonetwork.co.uk/london-networking-events/1818/2020/06/24/webinar-midsummer-nightmare
DESCRIPTION:COVID-19 and its impact on commercial landlords and business tenants on the June Quarter Day
END:VEVENT
END:VCALENDAR