BEGIN:VCALENDAR
VERSION:2.0
PRODID:-//Urbanonetwork//NONSGML v1.0//EN
METHOD:PUBLISH
BEGIN:VEVENT
UID:urbanonetwork-event-1826
DTSTAMP:20200729T080000Z
ORGANIZER;CN=Devika Sharma:MAILTO:devika.sharma@nuccobrain.com
STATUS:CONFIRMED
DTSTART:20200729T080000Z
DTEND:20200729T100000Z
LAST-MODIFIED:20200703T144213Z
LOCATION:Zoom, online, London, EC1A 9ET
SUMMARY:We Need to Talk About Digital Transformation
URL:https://www.urbanonetwork.co.uk/london-networking-events/1826/2020/07/29/we-need-to-talk-about-digital-transformation
DESCRIPTION:Is digital the new normal? What does digital transformation in business look like moving forward? How can you leverage new digital ecosystems to improve your ROI? How do you align your business goals with a digital strategy suitable for work-life post th
END:VEVENT
END:VCALENDAR