BEGIN:VCALENDAR
VERSION:2.0
PRODID:-//Urbanonetwork//NONSGML v1.0//EN
METHOD:PUBLISH
BEGIN:VEVENT
UID:urbanonetwork-event-1829
DTSTAMP:20200729T100000Z
ORGANIZER;CN=Robert Kelly:MAILTO:robert.kelly@stewart.com
STATUS:CONFIRMED
DTSTART:20200729T100000Z
DTEND:20200729T120000Z
LAST-MODIFIED:20200716T071532Z
LOCATION:Urbano Networking Event, Pan-Sector Online, London, 0NL 1NE
SUMMARY:Restrictive Covenants and Residential Conveyancing
URL:https://www.urbanonetwork.co.uk/london-networking-events/1829/2020/07/29/restrictive-covenants-and-residential-conveyancing
DESCRIPTION:Stewart Title Limited is delighted that so many of our clients and contacts have joined us throughout the last eight weeks for quality online training sessions led by property expert Ian Quayle. The feedback has been wonderful and&amp;nbsp;we are happy to an
END:VEVENT
END:VCALENDAR