BEGIN:VCALENDAR
VERSION:2.0
PRODID:-//Urbanonetwork//NONSGML v1.0//EN
METHOD:PUBLISH
BEGIN:VEVENT
UID:urbanonetwork-event-1842
DTSTAMP:20200908T080000Z
ORGANIZER;CN=David Pritchard:MAILTO:david.pritchard@sandler.com
STATUS:CONFIRMED
DTSTART:20200908T080000Z
DTEND:20200908T100000Z
LAST-MODIFIED:20200830T094738Z
LOCATION:Zoom, online, London, EC1A 9ET
SUMMARY:Sales Workshop: GROW YOUR REVENUE IN A DIFFICULT MARKET
URL:https://www.urbanonetwork.co.uk/london-networking-events/1842/2020/09/08/sales-workshop-grow-your-revenue-in-a-difficult-market
DESCRIPTION:These Online workshops are always very popular.&amp;nbsp; You will learn strategies you can adopt immediately to be more effective in selling and business development.
END:VEVENT
END:VCALENDAR