BEGIN:VCALENDAR
VERSION:2.0
PRODID:-//Urbanonetwork//NONSGML v1.0//EN
METHOD:PUBLISH
BEGIN:VEVENT
UID:urbanonetwork-event-1850
DTSTAMP:20200916T110000Z
ORGANIZER;CN=Susan Kench:MAILTO:susan@linkedintutors.com
STATUS:CONFIRMED
DTSTART:20200916T110000Z
DTEND:20200916T130000Z
LAST-MODIFIED:20200908T104819Z
LOCATION:Zoom, online, London, EC1A 9ET
SUMMARY:Using LinkedIn as an effective Engagement tool
URL:https://www.urbanonetwork.co.uk/london-networking-events/1850/2020/09/16/using-linkedin-as-an-effective-engagement-tool
DESCRIPTION:Are you unsure how to get more engagement on LinkedIn? Would you like to understand the formula for creating a winning LinkedIn post?For answers to these questions and many more, join our Bite-size Learning event (presented via Zoom) next Wednesday 16th 
END:VEVENT
END:VCALENDAR