BEGIN:VCALENDAR
VERSION:2.0
PRODID:-//Urbanonetwork//NONSGML v1.0//EN
METHOD:PUBLISH
BEGIN:VEVENT
UID:urbanonetwork-event-1859
DTSTAMP:20201006T130000Z
ORGANIZER;CN=Ben Faulkner:MAILTO:ben.faulkner@eqinvestors.co.uk
STATUS:CONFIRMED
DTSTART:20201006T130000Z
DTEND:20201006T150000Z
LAST-MODIFIED:20201001T070615Z
LOCATION:Zoom, online, London, EC1A 9ET
SUMMARY:Webinar: Investing in the low-carbon transition
URL:https://www.urbanonetwork.co.uk/london-networking-events/1859/2020/10/06/webinar-investing-in-the-low-carbon-transition
DESCRIPTION:Want to learn more about the positive impact you can make with your money?
END:VEVENT
END:VCALENDAR