BEGIN:VCALENDAR
VERSION:2.0
PRODID:-//Urbanonetwork//NONSGML v1.0//EN
METHOD:PUBLISH
BEGIN:VEVENT
UID:urbanonetwork-event-1879
DTSTAMP:20201125T130000Z
ORGANIZER;CN=Devika Sharma:MAILTO:devika.sharma@nuccobrain.com
STATUS:CONFIRMED
DTSTART:20201125T130000Z
DTEND:20201125T150000Z
LAST-MODIFIED:20201103T150448Z
LOCATION:Free Webinar, Online, London, EC2Y
SUMMARY:Spend or Save? Approaching Marketing During a Recession
URL:https://www.urbanonetwork.co.uk/london-networking-events/1879/2020/11/25/spend-or-save-approaching-marketing-during-a-recession
DESCRIPTION:As we plan for 2021, and a highly likely prolonged economic downturn, you&amp;rsquo;re probably wondering&amp;hellip; &amp;ldquo;Where should I be investing?&amp;rdquo;
END:VEVENT
END:VCALENDAR