BEGIN:VCALENDAR
VERSION:2.0
PRODID:-//Urbanonetwork//NONSGML v1.0//EN
METHOD:PUBLISH
BEGIN:VEVENT
UID:urbanonetwork-event-1890
DTSTAMP:20210120T153000Z
ORGANIZER;CN=Mark Herring:MAILTO:mark@urbanonetwork.co.uk
STATUS:CONFIRMED
DTSTART:20210120T153000Z
DTEND:20210120T173000Z
LAST-MODIFIED:20210121T152009Z
LOCATION:Urbano Build (NY), Online, Online, W1NN3R5
SUMMARY:Urbano Build/UWACTE January Speaker Networking Event with the NYCHA
URL:https://www.urbanonetwork.co.uk/london-networking-events/1890/2021/01/20/urbano-build-speak-event-joy-sinderbrand-nycha-smart-cities
DESCRIPTION:Urbano Speaker event with Joy Sinderbrand, VP of  New York City Housing Authority&#039;s Recovery &amp; Resilience Department.
END:VEVENT
END:VCALENDAR