BEGIN:VCALENDAR
VERSION:2.0
PRODID:-//Urbanonetwork//NONSGML v1.0//EN
METHOD:PUBLISH
BEGIN:VEVENT
UID:urbanonetwork-event-1895
DTSTAMP:20201209T110000Z
ORGANIZER;CN=Helen  Walker:MAILTO:helenwalker@hka.com
STATUS:CONFIRMED
DTSTART:20201209T110000Z
DTEND:20201209T130000Z
LAST-MODIFIED:20201202T131146Z
LOCATION:Online, Online, Anywhere, Anywhere
SUMMARY:CONSTRUCTION CLAIMS: A ‘DISRUPTIVE’ PANDEMIC?
URL:https://www.urbanonetwork.co.uk/london-networking-events/1895/2020/12/09/construction-claims-a-disruptive-pandemic
DESCRIPTION:As the pandemic persists across the world, its disruptive effect on people&amp;rsquo;s lives and on construction projects is still being felt and that looks likely to be the case for some time to come.
END:VEVENT
END:VCALENDAR