BEGIN:VCALENDAR
VERSION:2.0
PRODID:-//Urbanonetwork//NONSGML v1.0//EN
METHOD:PUBLISH
BEGIN:VEVENT
UID:urbanonetwork-event-190
DTSTAMP:20130116T090000Z
ORGANIZER;CN=Deborah Fowler:MAILTO:info@gestaltcentre.co.uk
STATUS:CONFIRMED
DTSTART:20130116T090000Z
DTEND:20130116T110000Z
LAST-MODIFIED:20161224T191404Z
LOCATION:The Gestalt Centre London, 96-100 Clifton Street, London, EC2A 4TP
SUMMARY:The Future of SEO &amp; Social Media Marketing: Breakfast Networking Event
URL:https://www.urbanonetwork.co.uk/london-networking-events/190/2013/01/16/the-future-of-seo-social-media-marketing-breakfast-networking-event
DESCRIPTION:Welcome to the Gestalt Centre&#039;s first networking event of 2013; a breakfast event featuring Andrew Brittain, Managing Director of Advantec Internet Services Ltd who will brief you on current and future trends in web marketing development during his 45 min
END:VEVENT
END:VCALENDAR