BEGIN:VCALENDAR
VERSION:2.0
PRODID:-//Urbanonetwork//NONSGML v1.0//EN
METHOD:PUBLISH
BEGIN:VEVENT
UID:urbanonetwork-event-191
DTSTAMP:20130131T100000Z
ORGANIZER;CN=Mark Herring:MAILTO:mark@urbanonetwork.co.uk
STATUS:CONFIRMED
DTSTART:20130131T100000Z
DTEND:20130131T120000Z
LAST-MODIFIED:20161224T191404Z
LOCATION:Gilt London, 14 New London Street, London, EC3R 7NA
SUMMARY:Networking Masterclass London - January
URL:https://www.urbanonetwork.co.uk/london-networking-events/191/2013/01/31/networking-masterclass-london-january
DESCRIPTION:The next Networking Masterclass event in London takes place on Thursday January 31st at Gilt in the City of London, with a networking lunch that follows.
END:VEVENT
END:VCALENDAR