BEGIN:VCALENDAR
VERSION:2.0
PRODID:-//Urbanonetwork//NONSGML v1.0//EN
METHOD:PUBLISH
BEGIN:VEVENT
UID:urbanonetwork-event-1918
DTSTAMP:20210210T090000Z
ORGANIZER;CN=David Pritchard:MAILTO:david.pritchard@sandler.com
STATUS:CONFIRMED
DTSTART:20210210T090000Z
DTEND:20210210T110000Z
LAST-MODIFIED:20210127T203642Z
LOCATION:Zoom, online, London, EC1A 9ET
SUMMARY:Sales Workshop: Win New Clients in a Difficult Market
URL:https://www.urbanonetwork.co.uk/london-networking-events/1918/2021/02/10/workshop-connect-with-new-clients-in-a-difficult-market
DESCRIPTION:These Sandler Training workshops are always very popular.&amp;nbsp; You will learn strategies you can adopt immediately to be more effective in building your new business pipeline right now.
END:VEVENT
END:VCALENDAR