BEGIN:VCALENDAR
VERSION:2.0
PRODID:-//Urbanonetwork//NONSGML v1.0//EN
METHOD:PUBLISH
BEGIN:VEVENT
UID:urbanonetwork-event-1928
DTSTAMP:20210305T090000Z
ORGANIZER;CN=Kay Merryman:MAILTO:kmerryman@abggroup.co.uk
STATUS:CONFIRMED
DTSTART:20210305T090000Z
DTEND:20210305T110000Z
LAST-MODIFIED:20210216T110257Z
LOCATION:Urbano Networking Event, Pan-Sector Online, London, 0NL 1NE
SUMMARY:How will the Spring Budget impact on you and your busines
URL:https://www.urbanonetwork.co.uk/london-networking-events/1928/2021/03/05/how-will-the-spring-budget-impact-on-you-and-your-busines
DESCRIPTION:
END:VEVENT
END:VCALENDAR