BEGIN:VCALENDAR
VERSION:2.0
PRODID:-//Urbanonetwork//NONSGML v1.0//EN
METHOD:PUBLISH
BEGIN:VEVENT
UID:urbanonetwork-event-1938
DTSTAMP:20210217T110000Z
ORGANIZER;CN=Robert Kelly:MAILTO:robert.kelly@stewart.com
STATUS:CONFIRMED
DTSTART:20210217T110000Z
DTEND:20210217T130000Z
LAST-MODIFIED:20210215T125101Z
LOCATION:Urbano Networking Event, Pan-Sector Online, London, 0NL 1NE
SUMMARY:Effective Reporting on Title in Residential Transactions
URL:https://www.urbanonetwork.co.uk/london-networking-events/1938/2021/02/17/effective-reporting-on-title-in-residential-transactions
DESCRIPTION:
END:VEVENT
END:VCALENDAR