BEGIN:VCALENDAR
VERSION:2.0
PRODID:-//Urbanonetwork//NONSGML v1.0//EN
METHOD:PUBLISH
BEGIN:VEVENT
UID:urbanonetwork-event-195
DTSTAMP:20121231T190000Z
ORGANIZER;CN=Wayne  Hemingway:MAILTO:info@hemingwaydesign.co.uk
STATUS:CONFIRMED
DTSTART:20121231T190000Z
DTEND:20121231T210000Z
LAST-MODIFIED:20161224T191404Z
LOCATION:Southbank Centre, Belvedere Road, London, SE1 8XX
SUMMARY:A Vintage New Year&#039;s Eve Party
URL:https://www.urbanonetwork.co.uk/london-networking-events/195/2012/12/31/a-vintage-new-year-s-eve-party
DESCRIPTION:A glamorous extravaganza of music, live bands, DJs and authentic period cocktails.Curated by Wayne Hemingway MBE, Gerardine Hemingway MBE and the Vintage team.
END:VEVENT
END:VCALENDAR