BEGIN:VCALENDAR
VERSION:2.0
PRODID:-//Urbanonetwork//NONSGML v1.0//EN
METHOD:PUBLISH
BEGIN:VEVENT
UID:urbanonetwork-event-1955
DTSTAMP:20210308T090000Z
ORGANIZER;CN=Louise Norris:MAILTO:Louise.norris@spencer-west.com
STATUS:CONFIRMED
DTSTART:20210308T090000Z
DTEND:20210308T110000Z
LAST-MODIFIED:20210305T073912Z
LOCATION:Spencer West LLP, Longbow House, London, EC1Y 4TW
SUMMARY:One free hour of employment and immigration advice for Brexit-related queries
URL:https://www.urbanonetwork.co.uk/london-networking-events/1955/2021/03/08/one-free-hour-of-employment-and-immigration-advice-for-brexit-related-queries
DESCRIPTION:As part of the London Business Hub&amp;rsquo;s specialist support team, the Spencer West Immigration and Global Mobility practice are delighted to offer London SMEs one free hour of employment and immigration advice for Brexit-related queries. We can advise 
END:VEVENT
END:VCALENDAR