BEGIN:VCALENDAR
VERSION:2.0
PRODID:-//Urbanonetwork//NONSGML v1.0//EN
METHOD:PUBLISH
BEGIN:VEVENT
UID:urbanonetwork-event-1959
DTSTAMP:20210325T120000Z
ORGANIZER;CN=Jo Geraghty:MAILTO:jo.geraghty@cultureconsultancy.com
STATUS:CONFIRMED
DTSTART:20210325T120000Z
DTEND:20210325T140000Z
LAST-MODIFIED:20210312T115316Z
LOCATION:Online, Online, Anywhere, Anywhere
SUMMARY:Culture Conversations: &#039;In Conversation With Michael Straughan - COO Aston Martin&#039;
URL:https://www.urbanonetwork.co.uk/london-networking-events/1959/2021/03/25/culture-conversations-in-conversation-with-michael-straughan-coo-aston-martin
DESCRIPTION:Shaken, Not Stirred. Aston Martin and The Future of British Car Manufacturing.
END:VEVENT
END:VCALENDAR