BEGIN:VCALENDAR
VERSION:2.0
PRODID:-//Urbanonetwork//NONSGML v1.0//EN
METHOD:PUBLISH
BEGIN:VEVENT
UID:urbanonetwork-event-1960
DTSTAMP:20210324T140000Z
ORGANIZER;CN=Brian Farrugia:MAILTO:brian@pa-capitalpartners.com
STATUS:CONFIRMED
DTSTART:20210324T140000Z
DTEND:20210324T160000Z
LAST-MODIFIED:20210315T141454Z
LOCATION:Urbano community online, Urbano Network, London, W1N NER5
SUMMARY:PA Capital Partners Pitch Series - Digital Commerce
URL:https://www.urbanonetwork.co.uk/london-networking-events/1960/2021/03/24/pa-capital-partners-pitch-series-digital-commerce
DESCRIPTION:Prime Advantage Capital Partners is a business advisory and FCA regulated corporate finance company. Our sector expert partners work exclusively with the founders and owners of SME&amp;rsquo;s with an emphasis on the Consumer, Mobility, Energy and Human Capi
END:VEVENT
END:VCALENDAR