BEGIN:VCALENDAR
VERSION:2.0
PRODID:-//Urbanonetwork//NONSGML v1.0//EN
METHOD:PUBLISH
BEGIN:VEVENT
UID:urbanonetwork-event-1967
DTSTAMP:20210414T090000Z
ORGANIZER;CN=Lisa Drake:MAILTO:l.drake@elliottwood.co.uk
STATUS:CONFIRMED
DTSTART:20210414T090000Z
DTEND:20210414T110000Z
LAST-MODIFIED:20210407T191515Z
LOCATION:The Building Society, The Building Society, London, W1T 4AH
SUMMARY:Accelerating Material Re-use in Construction
URL:https://www.urbanonetwork.co.uk/london-networking-events/1967/2021/04/14/accelerating-material-re-use-in-construction
DESCRIPTION:
END:VEVENT
END:VCALENDAR