BEGIN:VCALENDAR
VERSION:2.0
PRODID:-//Urbanonetwork//NONSGML v1.0//EN
METHOD:PUBLISH
BEGIN:VEVENT
UID:urbanonetwork-event-1973
DTSTAMP:20210513T093000Z
ORGANIZER;CN=Mark Herring:MAILTO:mark@urbanonetwork.co.uk
STATUS:CONFIRMED
DTSTART:20210513T093000Z
DTEND:20210513T113000Z
LAST-MODIFIED:20210513T110019Z
LOCATION:Urbano Zero Carbon Round Table, Urbano Online, London, W1N N3R
SUMMARY:Urbano Zero Carbon Networking Round Table
URL:https://www.urbanonetwork.co.uk/london-networking-events/1973/2021/05/13/urbano-network-zero-carbon-networking-round-table
DESCRIPTION:Urbano Zero Carbon Community Networking Round Table - Thursday May 13th
END:VEVENT
END:VCALENDAR