BEGIN:VCALENDAR
VERSION:2.0
PRODID:-//Urbanonetwork//NONSGML v1.0//EN
METHOD:PUBLISH
BEGIN:VEVENT
UID:urbanonetwork-event-1980
DTSTAMP:20210422T100000Z
ORGANIZER;CN=Millie Patrick:MAILTO:Millie.Patrick@stevens-bolton.com
STATUS:CONFIRMED
DTSTART:20210422T100000Z
DTEND:20210422T120000Z
LAST-MODIFIED:20210420T161736Z
LOCATION:Stevens &amp; Bolton Webinar, Urbano Member Online Event, Zoom, Zoom
SUMMARY:Webinar for contractors/subcontractors: construction and insolvency - cash is king
URL:https://www.urbanonetwork.co.uk/london-networking-events/1980/2021/04/22/webinar-for-contractors-subcontractors-construction-and-insolvency-cash-is-king
DESCRIPTION:Cash is king: you are invited to join our webinar focusing on the issues that keep you awake at night!
END:VEVENT
END:VCALENDAR