BEGIN:VCALENDAR
VERSION:2.0
PRODID:-//Urbanonetwork//NONSGML v1.0//EN
METHOD:PUBLISH
BEGIN:VEVENT
UID:urbanonetwork-event-1983
DTSTAMP:20210916T090000Z
ORGANIZER;CN=Angie Crush:MAILTO:angie.crush@thomasmansfield.com
STATUS:CONFIRMED
DTSTART:20210916T090000Z
DTEND:20210916T110000Z
LAST-MODIFIED:20210421T174205Z
LOCATION:Online Webinar, N/A, N/A, N/A
SUMMARY:Complex Sickness &amp; Incapacity Issues - Thomas Mansfield Employment Law Webinar
URL:https://www.urbanonetwork.co.uk/london-networking-events/1983/2021/09/16/complex-sickness-incapacity-issues-thomas-mansfield-employment-law-webinar
DESCRIPTION:In this webinar our panel of experts shall be discussing sickness absence policies and procedures, contractual conditions, managing sickness absence, home visits, evidence of incapacity, the role of the OHA and instructing an OHA to provide a medical rep
END:VEVENT
END:VCALENDAR