BEGIN:VCALENDAR
VERSION:2.0
PRODID:-//Urbanonetwork//NONSGML v1.0//EN
METHOD:PUBLISH
BEGIN:VEVENT
UID:urbanonetwork-event-20
DTSTAMP:20110715T110000Z
ORGANIZER;CN=Chompunut  Meiland:MAILTO:Chompunut.meiland@the-ascott.com
STATUS:CONFIRMED
DTSTART:20110715T110000Z
DTEND:20110715T130000Z
LAST-MODIFIED:20161224T191403Z
LOCATION:Citadines Prestige Holborn-Covent Garden, 94-99 High Holborn, LONDON, WC1V 6LF
SUMMARY:Come and see the newly renovated meeting rooms at Citadines Prestige Holborn-Covent Garden and save 25% off your meeting room hire for the rest of 2011!
URL:https://www.urbanonetwork.co.uk/london-networking-events/20/2011/07/15/come-and-see-the-newly-renovated-meeting-rooms-at-citadines-prestige-holborn-covent-garden-and-save-25-off-your-meeting-room-hire-for-the-rest-of-2011
DESCRIPTION:
END:VEVENT
END:VCALENDAR