BEGIN:VCALENDAR
VERSION:2.0
PRODID:-//Urbanonetwork//NONSGML v1.0//EN
METHOD:PUBLISH
BEGIN:VEVENT
UID:urbanonetwork-event-2000
DTSTAMP:20210521T090000Z
ORGANIZER;CN=Blaithin Carroll:MAILTO:BCarroll@trowers.com
STATUS:CONFIRMED
DTSTART:20210521T090000Z
DTEND:20210521T110000Z
LAST-MODIFIED:20210519T172739Z
LOCATION:Trowers &amp; Hamlins LLP, 3 Bunhill Row, London, EC1Y 8YZ
SUMMARY:Private residential development briefing – Senior living
URL:https://www.urbanonetwork.co.uk/london-networking-events/2000/2021/05/21/private-residential-development-briefing-senior-living
DESCRIPTION:As the later living market in the UK continues to grow, join Trowers &amp;amp; Hamlins to gain new insights in the senior living sector which will allow you to carve out new market opportunities.&amp;nbsp;
END:VEVENT
END:VCALENDAR