BEGIN:VCALENDAR
VERSION:2.0
PRODID:-//Urbanonetwork//NONSGML v1.0//EN
METHOD:PUBLISH
BEGIN:VEVENT
UID:urbanonetwork-event-2010
DTSTAMP:20210623T100000Z
ORGANIZER;CN=Blaithin Carroll:MAILTO:BCarroll@trowers.com
STATUS:CONFIRMED
DTSTART:20210623T100000Z
DTEND:20210623T120000Z
LAST-MODIFIED:20210609T080232Z
LOCATION:Trowers &amp; Hamlins LLP, 3 Bunhill Row, London, EC1Y 8YZ
SUMMARY:Tax and the residential development market
URL:https://www.urbanonetwork.co.uk/london-networking-events/2010/2021/06/23/tax-and-the-residential-development-market
DESCRIPTION:With the real estate tax landscape in the UK continuously changing and becoming increasingly more complex over the years, it is vital to keep up to date with the latest tax issues in the private residential development sector.
END:VEVENT
END:VCALENDAR