BEGIN:VCALENDAR
VERSION:2.0
PRODID:-//Urbanonetwork//NONSGML v1.0//EN
METHOD:PUBLISH
BEGIN:VEVENT
UID:urbanonetwork-event-2015
DTSTAMP:20210715T093000Z
ORGANIZER;CN=Mark Herring:MAILTO:mark@urbanonetwork.co.uk
STATUS:CONFIRMED
DTSTART:20210715T093000Z
DTEND:20210715T113000Z
LAST-MODIFIED:20210715T102809Z
LOCATION:Urbano Open Round Table, Urbano Online, London, W1N N3R
SUMMARY:Urbano Midlands Networking Round Table - July 2021
URL:https://www.urbanonetwork.co.uk/london-networking-events/2015/2021/07/15/urbano-midlands-networking-round-table-
DESCRIPTION:Urbano Midlands Networking Round Table for Members &amp; Non-Members, especially for those those with offices in and around the West &amp; East Midlands.
END:VEVENT
END:VCALENDAR