BEGIN:VCALENDAR
VERSION:2.0
PRODID:-//Urbanonetwork//NONSGML v1.0//EN
METHOD:PUBLISH
BEGIN:VEVENT
UID:urbanonetwork-event-2059
DTSTAMP:20211101T011100Z
ORGANIZER;CN=Mark Herring:MAILTO:mark@urbanonetwork.co.uk
STATUS:CONFIRMED
DTSTART:20211101T011100Z
DTEND:20211101T031100Z
LAST-MODIFIED:20211022T143949Z
LOCATION:Urbano Networking Event, Pan-Sector Online, London, 0NL 1NE
SUMMARY:Urbano Members Events Calendar
URL:https://www.urbanonetwork.co.uk/london-networking-events/2059/2021/11/01/urbano-members-events-calendar
DESCRIPTION:Click here for a range of events in November organised by Urbano Network&#039;s Members, from ESG, social value &amp; climate change to construction &amp; employment law &amp;c
END:VEVENT
END:VCALENDAR