BEGIN:VCALENDAR
VERSION:2.0
PRODID:-//Urbanonetwork//NONSGML v1.0//EN
METHOD:PUBLISH
BEGIN:VEVENT
UID:urbanonetwork-event-2062
DTSTAMP:20211104T080000Z
ORGANIZER;CN=Matt Hardy:MAILTO:matt.hardy@eqinvestors.co.uk
STATUS:CONFIRMED
DTSTART:20211104T080000Z
DTEND:20211104T100000Z
LAST-MODIFIED:20211026T163518Z
LOCATION:EQ Investors, Centennium House, London, EC3R 6DL
SUMMARY:Sustainable Investing: IFA Breakfast Meeting - Glasgow COP26
URL:https://www.urbanonetwork.co.uk/london-networking-events/2062/2021/11/04/sustainable-investing-ifa-breakfast-meeting-glasgow-cop26
DESCRIPTION:
END:VEVENT
END:VCALENDAR