BEGIN:VCALENDAR
VERSION:2.0
PRODID:-//Urbanonetwork//NONSGML v1.0//EN
METHOD:PUBLISH
BEGIN:VEVENT
UID:urbanonetwork-event-2073
DTSTAMP:20211202T130000Z
ORGANIZER;CN=Lisa Drake:MAILTO:l.drake@elliottwood.co.uk
STATUS:CONFIRMED
DTSTART:20211202T130000Z
DTEND:20211202T150000Z
LAST-MODIFIED:20211110T101759Z
LOCATION:The Building Society, The Building Society, London, W1T 4AH
SUMMARY:Full Circle to Reuse: 3. Materials
URL:https://www.urbanonetwork.co.uk/london-networking-events/2073/2021/12/02/full-circle-to-reuse-3-materials
DESCRIPTION:The final of 3 bitesize sessions from Elliott Wood taking us through their actionable framework for the reuse of construction materials.
END:VEVENT
END:VCALENDAR