BEGIN:VCALENDAR
VERSION:2.0
PRODID:-//Urbanonetwork//NONSGML v1.0//EN
METHOD:PUBLISH
BEGIN:VEVENT
UID:urbanonetwork-event-2085
DTSTAMP:20211216T140000Z
ORGANIZER;CN=Brian Farrugia:MAILTO:brian@pa-capitalpartners.com
STATUS:CONFIRMED
DTSTART:20211216T140000Z
DTEND:20211216T160000Z
LAST-MODIFIED:20211206T171011Z
LOCATION:PA Capital Partners - Online, Zoom Online, Global, ONL 1NE
SUMMARY:Zero-Emission Short-Haul Aviation Investor Event
URL:https://www.urbanonetwork.co.uk/london-networking-events/2085/2021/12/16/zero-emission-short-haul-aviation-investor-event
DESCRIPTION:We are delighted that you are joining us on Thursday&amp;nbsp;16th December at 2pm until 3pm&amp;nbsp;for the Zero-Emission Short-Haul Aviation.
END:VEVENT
END:VCALENDAR