BEGIN:VCALENDAR
VERSION:2.0
PRODID:-//Urbanonetwork//NONSGML v1.0//EN
METHOD:PUBLISH
BEGIN:VEVENT
UID:urbanonetwork-event-2087
DTSTAMP:20220125T093000Z
ORGANIZER;CN=Eleanor Attley:MAILTO:eleanor.attley@stevens-bolton.com
STATUS:CONFIRMED
DTSTART:20220125T093000Z
DTEND:20220125T113000Z
LAST-MODIFIED:20211210T122424Z
LOCATION:Zoom webinar, Zoom webinar, Zoom, Zoom
SUMMARY:IMMIGRATION WEBINAR: HIRING AND RETAINING OVERSEAS TALENT
URL:https://www.urbanonetwork.co.uk/london-networking-events/2087/2022/01/25/immigration-webinar-hiring-and-retaining-overseas-talent
DESCRIPTION:This webinar will be useful for any employers who hire non-UK nationals or who may need to do so in the future. Using case studies we&amp;rsquo;ll take you through many of the most common key immigration issues to consider. We&amp;rsquo;ll also highlight any imp
END:VEVENT
END:VCALENDAR