BEGIN:VCALENDAR
VERSION:2.0
PRODID:-//Urbanonetwork//NONSGML v1.0//EN
METHOD:PUBLISH
BEGIN:VEVENT
UID:urbanonetwork-event-2089
DTSTAMP:20220111T090000Z
ORGANIZER;CN=Kay Merryman:MAILTO:kmerryman@abggroup.co.uk
STATUS:CONFIRMED
DTSTART:20220111T090000Z
DTEND:20220111T110000Z
LAST-MODIFIED:20220106T083634Z
LOCATION:Zoom webinar, Zoom webinar, Zoom, Zoom
SUMMARY:Bank of England – impact of Covid on UK Economy
URL:https://www.urbanonetwork.co.uk/london-networking-events/2089/2022/01/11/bank-of-england-impact-of-covid-on-uk-economy
DESCRIPTION:ABG invite you to join them at their impact of Covid on the UK Economy session.&amp;nbsp; Their guest speaker for the morning will be Rob Elder from the Bank of England.
END:VEVENT
END:VCALENDAR