BEGIN:VCALENDAR
VERSION:2.0
PRODID:-//Urbanonetwork//NONSGML v1.0//EN
METHOD:PUBLISH
BEGIN:VEVENT
UID:urbanonetwork-event-2098
DTSTAMP:20220119T120000Z
ORGANIZER;CN=Elle Moss:MAILTO:elle@drewlondon.co.uk
STATUS:CONFIRMED
DTSTART:20220119T120000Z
DTEND:20220119T140000Z
LAST-MODIFIED:20220111T104249Z
LOCATION:The Laundry, 374 Coldharbour Lane, London, SW9 8PL
SUMMARY:January networking lunch in Brixton
URL:https://www.urbanonetwork.co.uk/london-networking-events/2098/2022/01/19/january-networking-lunch-in-brixton
DESCRIPTION:Join us at our latest monthly networking event of learning, laughter &amp;amp; lunch held at the beautiful Laundry, Brixton, hosted by Elle Moss of Drew London.What&#039;s the format?
END:VEVENT
END:VCALENDAR