BEGIN:VCALENDAR
VERSION:2.0
PRODID:-//Urbanonetwork//NONSGML v1.0//EN
METHOD:PUBLISH
BEGIN:VEVENT
UID:urbanonetwork-event-2118
DTSTAMP:20220222T113000Z
ORGANIZER;CN=Rebecca  Rees:MAILTO:rrees@trowers.com
STATUS:CONFIRMED
DTSTART:20220222T113000Z
DTEND:20220222T133000Z
LAST-MODIFIED:20220215T092012Z
LOCATION:Trowers &amp; Hamlins LLP, 3 Bunhill Row, London, EC1Y 8YZ
SUMMARY:TUPE and Procurement webinar
URL:https://www.urbanonetwork.co.uk/london-networking-events/2118/2022/02/22/tupe-and-procurement-webinar
DESCRIPTION:Our last TUPEfest online session is aimed at anyone who needs to understand how TUPE fits into any form of procurement process, in particular People, BD and Procurement professionals.
END:VEVENT
END:VCALENDAR