BEGIN:VCALENDAR
VERSION:2.0
PRODID:-//Urbanonetwork//NONSGML v1.0//EN
METHOD:PUBLISH
BEGIN:VEVENT
UID:urbanonetwork-event-2148
DTSTAMP:20220510T103000Z
ORGANIZER;CN=Blaithin Carroll:MAILTO:BCarroll@trowers.com
STATUS:CONFIRMED
DTSTART:20220510T103000Z
DTEND:20220510T123000Z
LAST-MODIFIED:20220509T045647Z
LOCATION:Trowers &amp; Hamlins LLP, 3 Bunhill Row, London, EC1Y 8YZ
SUMMARY:Refugees: issues for employers
URL:https://www.urbanonetwork.co.uk/london-networking-events/2148/2022/05/10/refugees-issues-for-employers
DESCRIPTION:The implications and impact of war in Ukraine and the resulting humanitarian and refugee crisis reaches all parts of society.
END:VEVENT
END:VCALENDAR